BEGIN:VCALENDAR
VERSION:2.0
PRODID:-//La Trobe Events//NONSGML v1.0//EN
BEGIN:VEVENT
UID:1824091@latrobe.edu.au
DTSTART;TZID="/Australia/Melbourne":20260511T110000
DTEND;TZID="/Australia/Melbourne":20260511T120000
SUMMARY:Assessment Writing for Submission
DESCRIPTION:This workshop will assist you to refine your assessment draft prior to submission. It will cover areas of academic writing, common errors, applying the rubric and proofreading strategies.
X-ALT-DESC;FMTTYPE=text/html:<!doctype html><html><body>
    <p><strong>This workshop will assist you to refine your assessment draft prior to submission. It will cover areas of academic writing, common errors, applying the rubric and proofreading strategies.</strong></p>
        <p><strong><a href="https://employabilityhub.latrobe.edu.au/s/learning-hub/events/detail/1290061" style="color: #fff;background: #e2231b;border-radius: 5px;padding:5px 10px;display:inline-block;text-decoration:none;font-size:24px;">
        &nbsp;Register&nbsp;
    </a></strong></p>
        <p>In this workshop you will learn:</p><ul><li>academic language</li><li>aiming for clarity</li><li>common writing errors</li><li>structuring your work</li><li>keeping to the word count</li><li>applying the rubric</li><li>acknowledging AI use</li><li>proofreading strategies</li></ul><p><em>This is a live online workshop and is&nbsp;<strong>not recorded.</strong> Registered attendees will receive the slides after the workshop.</em></p></body></html>
    
LOCATION:Online

CATEGORIES:Spotlights on Success,Seminar/Workshop/Training,Current student: Undergraduate,Current student: Postgraduate,Current student: New students
END:VEVENT
END:VCALENDAR
