BEGIN:VCALENDAR
VERSION:2.0
PRODID:-//La Trobe Events//NONSGML v1.0//EN
BEGIN:VEVENT
UID:1823781@latrobe.edu.au
DTSTART:20260605
DTEND:20260605
SUMMARY:World Environment Day
LOCATION:Hoogenraad Lecture Theatre, La Trobe Institute of Molecular Sciences 1, La Trobe University, Bundoora VIC 3086
CATEGORIES:Future Student: Secondary school; Current Student: Undergraduate; Current Student: Postgraduate; Current Student: Careers; Alumni; Community Event; Public Lecture
END:VEVENT
END:VCALENDAR
