BEGIN:VCALENDAR
VERSION:2.0
PRODID:-//La Trobe Events//NONSGML v1.0//EN
BEGIN:VEVENT
UID:1666207@latrobe.edu.au
DTSTART:20250510T110000
DTEND:20250510T160000
SUMMARY:Workshop with exhibiting artist Alex Martinis Roe
LOCATION:
CATEGORIES:Seminar/Workshop/Training
END:VEVENT
END:VCALENDAR
