BEGIN:VCALENDAR
VERSION:2.0
PRODID:-//La Trobe Events//NONSGML v1.0//EN
BEGIN:VEVENT
UID:1823777@latrobe.edu.au
DTSTART:20260624T170000
DTEND:20260624T193000
SUMMARY:Innovation Series | Accelerating Food Innovation
LOCATION:
CATEGORIES:Current Student: Undergraduate; Current Student: Postgraduate; Current Student: Careers; Current Student: New students; Current Student: Student union; Current Student: Clubs; Current Student: External; Current Student: Leadership; Current Student: Volunteering; Alumni; Community Event; Corporate; Forum/symposium; Seminar/Workshop/Training; Public
END:VEVENT
END:VCALENDAR
