BEGIN:VCALENDAR
VERSION:2.0
PRODID:-//La Trobe Events//NONSGML v1.0//EN
BEGIN:VEVENT
UID:1679914@latrobe.edu.au
DTSTART:20251106T170000
DTEND:20251106T190000
SUMMARY:Indigenous Excellence, Billabongs Not Silos
LOCATION:Circular Lecture Theatre, La Trobe University Bendigo Campus, Flora Hill, Australia
CATEGORIES:Community Event; Public Lecture
END:VEVENT
END:VCALENDAR
