BEGIN:VCALENDAR
VERSION:2.0
PRODID:-//La Trobe Events//NONSGML v1.0//EN
BEGIN:VEVENT
UID:1791118@latrobe.edu.au
DTSTART:20260328T090000
DTEND:20260328T140000
SUMMARY:Futures Day 2026
LOCATION:471 Benetook Avenue Mildura, VIC 3500
CATEGORIES:Future Student Information; Future Student: Secondary school
END:VEVENT
END:VCALENDAR
