BEGIN:VCALENDAR
VERSION:2.0
PRODID:-//La Trobe Events//NONSGML v1.0//EN
BEGIN:VEVENT
UID:1786357@latrobe.edu.au
DTSTART:20260413T100000
DTEND:20260415T153000
SUMMARY:Bendigo Campus Talk & Tours
LOCATION:La Trobe University, Edwards Rd, Flora Hill Bendigo Victoria 3552
CATEGORIES:Future Student Information; Future Student Education Fair
END:VEVENT
END:VCALENDAR
