BEGIN:VCALENDAR
VERSION:2.0
PRODID:-//La Trobe Events//NONSGML v1.0//EN
BEGIN:VEVENT
UID:1680562@latrobe.edu.au
DTSTART:20250730T103000
DTEND:20250730T113000
SUMMARY:ACAMI: Advancing Medical Frontiers with AI
LOCATION:Online, 
CATEGORIES:Alumni; Community Event; Public Lecture; Public
END:VEVENT
END:VCALENDAR
