BEGIN:VCALENDAR
VERSION:2.0
PRODID:-//La Trobe Events//NONSGML v1.0//EN
BEGIN:VEVENT
UID:1673111@latrobe.edu.au
DTSTART:20250710T090000
DTEND:20250711T140000
SUMMARY:2025 La Trobe Rural Health School Conference: Innovating for Equity: Bridging Gaps in Rural Health Care.
LOCATION:Circular Lecture Theatre, La Trobe University, Edwards Rd, Flora Hill, Bendigo VIC 3552
CATEGORIES:Conference
END:VEVENT
END:VCALENDAR
